BEGIN:VCALENDAR
VERSION:2.0
PRODID:-//AudioTheme 3.0.0
BEGIN:VEVENT
UID:urn:uuid:9fc5d88b-85fc-4931-9bb3-cfd971b8b63d
URL:https://molllust.com/shows/epic-metal-night-iv-2/
DTSTART;TZID=GMT:20220430T190000
SUMMARY:Epic Metal Night IV
DESCRIPTION:Mit Conspiria\, Flowerleaf und Lycania
LOCATION:Junity Friedberg\, Burgfeldstraße 19\, Friedberg\, Hessen\, Deutschland\, 61169
END:VEVENT
END:VCALENDAR
